BEGIN:VCALENDAR
VERSION:2.0
PRODID:-//wp-events-plugin.com//6.6.4.1//EN
BEGIN:VEVENT
UID:12@savt.at
DTSTART;TZID=Europe/Vienna:20170406T180000
DTEND;TZID=Europe/Vienna:20170406T200000
DTSTAMP:20170228T091716Z
URL:https://www.savt.at/events/savt-bowling-2017/
SUMMARY:SAVT Bowling 2017
DESCRIPTION:Die jährliche Jagd nach dem perfekten Spiel geht in die nächs
 te Runde.\n\nHeuer im Gasometer!\n\nAuf euer zahlreiches Kommen freut sich
  Thomas
CATEGORIES:Bowling
LOCATION:#_LOCATIONNAME\, #_LOCATIONFULLLINE\, #_LOCATIONCOUNTRY
GEO:48.18508540000001;16.418868699999962
X-APPLE-STRUCTURED-LOCATION;VALUE=URI;X-ADDRESS=#_LOCATIONFULLLINE\, #_LOCA
 TIONCOUNTRY;X-APPLE-RADIUS=100;X-TITLE=#_LOCATIONNAME:geo:48.1850854000000
 1,16.418868699999962
END:VEVENT
BEGIN:VTIMEZONE
TZID:Europe/Vienna
X-LIC-LOCATION:Europe/Vienna
BEGIN:DAYLIGHT
DTSTART:20170326T030000
TZOFFSETFROM:+0100
TZOFFSETTO:+0200
TZNAME:CEST
END:DAYLIGHT
END:VTIMEZONE
END:VCALENDAR