BEGIN:VCALENDAR
VERSION:2.0
PRODID:-//wp-events-plugin.com//6.6.4.1//EN
BEGIN:VEVENT
UID:116@savt.at
DTSTART;TZID=Europe/Vienna:20230601T170000
DTEND;TZID=Europe/Vienna:20230601T220000
DTSTAMP:20230601T134754Z
URL:https://www.savt.at/events/savt-grillfest-2023/
SUMMARY:SAVT-Grillfest
DESCRIPTION:Dear SAVT community\,\n\nWe are happy to announce that our SAVT
  barbecue is just around the corner!\n\nThis time we invite you to our leg
 endary SAVT Grillfest\n\non June 1st\, 2023 from 5:00 p.m. at Getreidemar
 kt 9.\n\nOf course\, like every year\, your physical well-being is taken c
 are of!\n\nWe are looking forward to celebrating with you!\n\n&nbsp\;\n\nS
 ee you soon and don’t forget to register :-)\n\nSincerely\, your SAVT Bo
 ard\n\n&nbsp\;\n\nHow to get there:\n\nThe location can easily be reached 
 by bike or public transport. The subway stations Karlsplatz and Vokstheate
 r are just a view minutes on foot.\n\n&nbsp\;\n\nThis event is an Öko-eve
 nt\n\n\n\nMany thanks to our sponsors which make this event possible...\n\
 n&nbsp\;\n\n\n\n\n\n\n\n\n\n\n\n\n\n\n\n\n\n\n\n\n\n\n\n\n\n\n\n\n\n\n\n\n
 \n\n\n&nbsp\;\n\n&nbsp\;\n\nAttendees of this event\, please be aware that
  photography\, filming\, and recording may occur. By entering the premises
 \, you consent to the release\, publication\, exhibition\, or reproduction
  of any recorded media of thyself for any purpose whatsoever. If you do no
 t wish to be photographed or recorded please contact us in advance.
ATTACH;FMTTYPE=image/jpeg:https://www.savt.at/wp-content/uploads/2016/05/S
 AVT_Grillfest-92-scaled.jpg
CATEGORIES:SAVT-Grillfest
END:VEVENT
BEGIN:VTIMEZONE
TZID:Europe/Vienna
X-LIC-LOCATION:Europe/Vienna
BEGIN:DAYLIGHT
DTSTART:20230326T030000
TZOFFSETFROM:+0100
TZOFFSETTO:+0200
TZNAME:CEST
END:DAYLIGHT
END:VTIMEZONE
END:VCALENDAR