BEGIN:VCALENDAR
VERSION:2.0
PRODID:-//wp-events-plugin.com//6.6.4.1//EN
BEGIN:VEVENT
UID:65@savt.at
DTSTART;TZID=Europe/Vienna:20200429T180000
DTEND;TZID=Europe/Vienna:20200429T230000
DTSTAMP:20200428T194435Z
URL:https://www.savt.at/events/vt-pubquiz/
SUMMARY:VT-Pubquiz
DESCRIPTION:Liebe SAVT-Miglieder (und alle\, die es noch werden wollen)\,\n
 Wir wollen natürlich nicht bis Ende Juni warten\, um mit euch wieder in K
 ontakt zu treten und deshalb haben wir uns etwas einfallen lassen. Das ers
 te Online-Event des SAVT! Wir veranstalten ein Pubquiz für euch\, remote 
 von zu Hause. Pubquiz was ist das? Bei unserem Pubquiz werden spannende Fr
 agen rund um die Verfahrenstechnik gestellt (z.B. „Welche österreichisc
 he Brauerei ist die einzige Braukommune Europas?“) und man versucht geme
 insam mit dem Rateteam (max. 4 Personen) die Lösung zu finden. Einziges e
 rlaubtes Hilfsmittel sind Getränke aller Art und ein technisches Gerät  
 (Handy/Tablet/PC)  zur Kommunikation mit uns und euren Teammitgliedern. Go
 ogle\, Bücher\, Kristallkugeln etc. sind verboten. Zu jeder Frage wird au
 ch ein Song abgespielt dessen Interpret und Titel ebenfalls gesucht wir\, 
 oft dient der Song auch als Hinweis für die Frage (zB Free Fallin -  Tom 
 Petty). Für jede richtige Antwort gibt’s Punkte und das Siegerteam beko
 mmt einen Preis: eines der verfahrenstechnischsten Produkte – Bier bei d
 er Ottakringer Brauerei nach der Isolation (10 Liter Bierfass an privatem 
 Zapfhahn und Tisch bei den Ottakringer Braukulturwochen). Ein herzliches D
 ankeschön an unseren Sponsor: Ottakringer Eventlocation.\n\nHier die Eckd
 aten:\nWann? 		–	29.04.2020\, Zusammentreffen 18:00\, Quizstart 18:30\nW
 o? 		–	Discord-App (https://discordapp.com/) bei dir zu Hause\nAnmeldung
 ? 	–	Gruppenanmeldung (bis zu 4 Personen)\, wie gewohnt hier über die H
 omepage mit eurem innovativen Gruppennnamen.\n                -	Wenn ihr e
 uch mit neuen SAVTlern vernetzen wollt: Einzelanmeldung über die Homepage
  (mit Info Einzelanmeldung)\, dann matchen wir euch in eine passende Grupp
 e\nAlso\, anmelden und los gehts!\n\nP.S.: Detaillierte Infos zu Ablauf un
 d technischen Details bekommt ihr nach Anmeldung einen Tag vor dem Quiz pe
 r Mail zugesandt. \n\n
ATTACH;FMTTYPE=image/jpeg:https://www.savt.at/wp-content/uploads/2020/04/P
 ubquiz_mit_Bier.png
END:VEVENT
BEGIN:VTIMEZONE
TZID:Europe/Vienna
X-LIC-LOCATION:Europe/Vienna
BEGIN:DAYLIGHT
DTSTART:20200329T030000
TZOFFSETFROM:+0100
TZOFFSETTO:+0200
TZNAME:CEST
END:DAYLIGHT
END:VTIMEZONE
END:VCALENDAR